BEGIN:VCALENDAR
VERSION:2.0
PRODID:-//wp-events-plugin.com//7.2.3.1//EN
TZID:Europe/Madrid
X-WR-TIMEZONE:Europe/Madrid
BEGIN:VEVENT
UID:253@asturiasconvivencias.es
DTSTART;TZID=Europe/Madrid:20260308T110000
DTEND;TZID=Europe/Madrid:20260308T160000
DTSTAMP:20260306T095901Z
URL:https://asturiasconvivencias.es/en_en/eventos/el-tenderete-mercado-loc
 al-3
SUMMARY:El Tenderete Mercado Local
DESCRIPTION:El Tenderete es el mercado local de Santolaya. Cada segundo dom
 ingo encontrarás productos de la huerta\, plantas\, pan del bueno\, artes
 anía\, comida rica\, productos de segunda mano\, ropa\, música y muy bue
 n rollo.
ATTACH;FMTTYPE=image/jpeg:https://asturiasconvivencias.es/wp-content/uploa
 ds/2023/03/WhatsApp-Image-2026-02-27-at-18.33.16.jpeg
CATEGORIES:Artesanía,con Niños,Cultura,Gastronomía,Tradición
LOCATION:Cabranes\, Santa Eulalia\, Cabranes\, Asturias\, 33009\, Asturias\
 , Spain
X-APPLE-STRUCTURED-LOCATION;VALUE=URI;X-ADDRESS=Santa Eulalia\, Cabranes\, 
 Asturias\, 33009\, Asturias\, Spain;X-APPLE-RADIUS=100;X-TITLE=Cabranes:ge
 o:0,0
END:VEVENT
BEGIN:VTIMEZONE
TZID:Europe/Madrid
X-LIC-LOCATION:Europe/Madrid
BEGIN:STANDARD
DTSTART:20251026T020000
TZOFFSETFROM:+0200
TZOFFSETTO:+0100
TZNAME:CET
END:STANDARD
END:VTIMEZONE
END:VCALENDAR