BEGIN:VCALENDAR
VERSION:2.0
PRODID:-//wp-events-plugin.com//7.2.3.1//EN
TZID:Europe/Madrid
X-WR-TIMEZONE:Europe/Madrid
BEGIN:VEVENT
UID:239@asturiasconvivencias.es
DTSTART;TZID=Europe/Madrid:20260430T180000
DTEND;TZID=Europe/Madrid:20260503T180000
DTSTAMP:20260218T204447Z
URL:https://asturiasconvivencias.es/en_en/eventos/esencia-femenina-retiro
SUMMARY:Reconecta con tu Esencia
DESCRIPTION:Cuatro días para volver a ti. Un retiro diseñado para que pue
 das soltar\, sentir y renacer. En un entorno natural privilegiado\, te aco
 mpañaremos a través de ceremonias\, círculos de mujeres\, talleres corp
 orales y experiencias ancestrales que te ayudarán a reconectar con tu fue
 rza interior.\nCon acompañamiento profesional en cada paso del camino\, e
 n un espacio seguro donde podrás ser completamente tú misma.
ATTACH;FMTTYPE=image/jpeg:https://asturiasconvivencias.es/wp-content/uploa
 ds/2022/09/Mujer-Semilla.jpeg
CATEGORIES:Espiritualidad,Naturaleza,Retiro,viaje en grupo
LOCATION:Cabranes\, Santa Eulalia\, Cabranes\, Asturias\, 33009\, Asturias\
 , Spain
X-APPLE-STRUCTURED-LOCATION;VALUE=URI;X-ADDRESS=Santa Eulalia\, Cabranes\, 
 Asturias\, 33009\, Asturias\, Spain;X-APPLE-RADIUS=100;X-TITLE=Cabranes:ge
 o:0,0
END:VEVENT
BEGIN:VTIMEZONE
TZID:Europe/Madrid
X-LIC-LOCATION:Europe/Madrid
BEGIN:DAYLIGHT
DTSTART:20260329T030000
TZOFFSETFROM:+0100
TZOFFSETTO:+0200
TZNAME:CEST
END:DAYLIGHT
END:VTIMEZONE
END:VCALENDAR