BEGIN:VCALENDAR
VERSION:2.0
PRODID:-//wp-events-plugin.com//7.2.3.1//EN
TZID:Europe/Madrid
X-WR-TIMEZONE:Europe/Madrid
BEGIN:VEVENT
UID:287@asturiasconvivencias.es
DTSTART;TZID=Europe/Madrid:20251108T110000
DTEND;TZID=Europe/Madrid:20251112T180000
DTSTAMP:20251010T095214Z
URL:https://asturiasconvivencias.es/en_en/eventos/retiro-malinalco
SUMMARY:Retiro en Malinalco - Integrando lo Femenino y lo Masculino
DESCRIPTION:Experiencia en Malinalco con Martín de Olkeme: integra tus ene
 rgías femenina y masculina con temazcal\, meditación y ceremonia en la m
 ontaña.
ATTACH;FMTTYPE=image/jpeg:https://asturiasconvivencias.es/wp-content/uploa
 ds/2025/10/malinalco-4831463_1280.jpg
CATEGORIES:Cultura,autocuidado,Espiritualidad,Naturaleza,Retiro,Tradición
LOCATION:Malinalco\, Olkeme\, Malinalco\, Estado de México\, Mexico
X-APPLE-STRUCTURED-LOCATION;VALUE=URI;X-ADDRESS=Olkeme\, Malinalco\, Estado
  de México\, Mexico;X-APPLE-RADIUS=100;X-TITLE=Malinalco:geo:0,0
END:VEVENT
BEGIN:VTIMEZONE
TZID:Europe/Madrid
X-LIC-LOCATION:Europe/Madrid
BEGIN:STANDARD
DTSTART:20251026T020000
TZOFFSETFROM:+0200
TZOFFSETTO:+0100
TZNAME:CET
END:STANDARD
END:VTIMEZONE
END:VCALENDAR