BEGIN:VCALENDAR
VERSION:2.0
PRODID:-//wp-events-plugin.com//7.2.3.1//EN
TZID:Europe/Madrid
X-WR-TIMEZONE:Europe/Madrid
BEGIN:VEVENT
UID:284@asturiasconvivencias.es
DTSTART;TZID=Europe/Madrid:20251029T110000
DTEND;TZID=Europe/Madrid:20251029T160000
DTSTAMP:20251006T144249Z
URL:https://asturiasconvivencias.es/en_en/eventos/sabores-del-semi-desiert
 o
SUMMARY:Sabores del Semi Desierto
DESCRIPTION:Ruta gastronómica en Villa Progreso: descubre la cultura otom
 í y degusta platillos prehispánicos en una experiencia sensorial y ances
 tral.
ATTACH;FMTTYPE=image/jpeg:https://asturiasconvivencias.es/wp-content/uploa
 ds/2025/07/IMG-20180731-WA0025.jpg
CATEGORIES:Cultura,Artesanía,Degustación,Etnografía,Gastronomía,Taller
 ,Tradición,Visita
LOCATION:Villa Progreso\, Villa Progreso\, Ezequiel Montes\, Querétaro\, M
 exico
X-APPLE-STRUCTURED-LOCATION;VALUE=URI;X-ADDRESS=Villa Progreso\, Ezequiel M
 ontes\, Querétaro\, Mexico;X-APPLE-RADIUS=100;X-TITLE=Villa Progreso:geo:
 0,0
END:VEVENT
BEGIN:VTIMEZONE
TZID:Europe/Madrid
X-LIC-LOCATION:Europe/Madrid
BEGIN:STANDARD
DTSTART:20251026T020000
TZOFFSETFROM:+0200
TZOFFSETTO:+0100
TZNAME:CET
END:STANDARD
END:VTIMEZONE
END:VCALENDAR