BEGIN:VCALENDAR
VERSION:2.0
PRODID:-//wp-events-plugin.com//7.2.3.1//EN
TZID:Europe/Madrid
X-WR-TIMEZONE:Europe/Madrid
BEGIN:VEVENT
UID:97@asturiasconvivencias.es
DTSTART;TZID=Europe/Madrid:20190615T100000
DTEND;TZID=Europe/Madrid:20190615T140000
DTSTAMP:20190602T193957Z
URL:https://asturiasconvivencias.es/en_en/eventos/taller-infantil-de-ornit
 ologia-2
SUMMARY:Taller Infantil de Ornitología
DESCRIPTION:Un plan alternativo para que los más pequeños de la casa disf
 ruten de Asturias en contacto con la naturaleza. Un taller didáctico sobr
 e identificación de aves en el que se sentirán verdaderos ornitólogos.
ATTACH;FMTTYPE=image/jpeg:https://asturiasconvivencias.es/wp-content/uploa
 ds/2019/03/prismáticos.jpg
CATEGORIES:con Niños,Taller
LOCATION:Peruyero\, Peruyeru\, Villaviciosa\, Asturias\, 33310\, Spain
X-APPLE-STRUCTURED-LOCATION;VALUE=URI;X-ADDRESS=Peruyeru\, Villaviciosa\, A
 sturias\, 33310\, Spain;X-APPLE-RADIUS=100;X-TITLE=Peruyero:geo:0,0
END:VEVENT
BEGIN:VTIMEZONE
TZID:Europe/Madrid
X-LIC-LOCATION:Europe/Madrid
BEGIN:DAYLIGHT
DTSTART:20190331T030000
TZOFFSETFROM:+0100
TZOFFSETTO:+0200
TZNAME:CEST
END:DAYLIGHT
END:VTIMEZONE
END:VCALENDAR