BEGIN:VCALENDAR
VERSION:2.0
PRODID:-//wp-events-plugin.com//7.2.3.1//EN
TZID:Europe/Madrid
X-WR-TIMEZONE:Europe/Madrid
BEGIN:VEVENT
UID:274@asturiasconvivencias.es
DTSTART;TZID=Europe/Madrid:20260403T110000
DTEND;TZID=Europe/Madrid:20260403T130000
DTSTAMP:20260328T172044Z
URL:https://asturiasconvivencias.es/eventos/autocuidado_y_bienestar
SUMMARY:Sesión de Autocuidado y Bienestar
DESCRIPTION:Descubre un espacio de relajación y autocuidado en Asturias\, 
 con prácticas para nutrir tu piel y tu bienestar. 
ATTACH;FMTTYPE=image/jpeg:https://asturiasconvivencias.es/wp-content/uploa
 ds/2025/06/WhatsApp-Image-2025-06-15-at-12.11.45.jpeg
CATEGORIES:autocuidado,Taller
LOCATION:Cabranes\, Santa Eulalia\, Cabranes\, Asturias\, 33009\, Asturias\
 , España
X-APPLE-STRUCTURED-LOCATION;VALUE=URI;X-ADDRESS=Santa Eulalia\, Cabranes\, 
 Asturias\, 33009\, Asturias\, España;X-APPLE-RADIUS=100;X-TITLE=Cabranes:
 geo:0,0
END:VEVENT
BEGIN:VTIMEZONE
TZID:Europe/Madrid
X-LIC-LOCATION:Europe/Madrid
BEGIN:DAYLIGHT
DTSTART:20260329T030000
TZOFFSETFROM:+0100
TZOFFSETTO:+0200
TZNAME:CEST
END:DAYLIGHT
END:VTIMEZONE
END:VCALENDAR