BEGIN:VCALENDAR
VERSION:2.0
PRODID:-//wp-events-plugin.com//7.2.3.1//EN
TZID:Europe/Madrid
X-WR-TIMEZONE:Europe/Madrid
BEGIN:VEVENT
UID:270@asturiasconvivencias.es
DTSTART;TZID=Europe/Madrid;VALUE=DATE:20250912
DTEND;TZID=Europe/Madrid;VALUE=DATE:20250915
DTSTAMP:20250904T181250Z
URL:https://asturiasconvivencias.es/eventos/festival-anima-mundi
SUMMARY:Festival Anima Mundi 2025
DESCRIPTION:Anima Mundi es una asociación sin ánimo de lucro que nacio
 ́ en el concejo de Cabranes en 2023 con el objetivo de poner en marcha la
  creación de un centro residencial para gente con diversidad funcional e
 n el concejo. 
CATEGORIES:con Niños,Cultura,Danza
LOCATION:Cabranes\, Santa Eulalia\, Cabranes\, Asturias\, 33009\, Asturias\
 , España
X-APPLE-STRUCTURED-LOCATION;VALUE=URI;X-ADDRESS=Santa Eulalia\, Cabranes\, 
 Asturias\, 33009\, Asturias\, España;X-APPLE-RADIUS=100;X-TITLE=Cabranes:
 geo:0,0
END:VEVENT
BEGIN:VTIMEZONE
TZID:Europe/Madrid
X-LIC-LOCATION:Europe/Madrid
BEGIN:DAYLIGHT
DTSTART:20250330T030000
TZOFFSETFROM:+0100
TZOFFSETTO:+0200
TZNAME:CEST
END:DAYLIGHT
END:VTIMEZONE
END:VCALENDAR