BEGIN:VCALENDAR
VERSION:2.0
PRODID:-//wp-events-plugin.com//7.2.3.1//EN
TZID:Europe/Madrid
X-WR-TIMEZONE:Europe/Madrid
BEGIN:VEVENT
UID:82@asturiasconvivencias.es
DTSTART;TZID=Europe/Madrid:20190525T120000
DTEND;TZID=Europe/Madrid:20190525T130000
DTSTAMP:20190515T181708Z
URL:https://asturiasconvivencias.es/eventos/visita-finca-ecologica
SUMMARY:Visita a Finca Ecológica
DESCRIPTION:Un plan alternativo para que los más pequeños de la casa disf
 ruten de Asturias en contacto con la naturaleza. Un taller didáctico sobr
 e identificación de aves en el que se sentirán verdaderos ornitólogos.
ATTACH;FMTTYPE=image/jpeg:https://asturiasconvivencias.es/wp-content/uploa
 ds/2019/03/prismáticos.jpg
CATEGORIES:con Niños,Taller
LOCATION:Peruyero\, Peruyeru\, Villaviciosa\, Asturias\, 33310\, España
X-APPLE-STRUCTURED-LOCATION;VALUE=URI;X-ADDRESS=Peruyeru\, Villaviciosa\, A
 sturias\, 33310\, España;X-APPLE-RADIUS=100;X-TITLE=Peruyero:geo:0,0
END:VEVENT
BEGIN:VTIMEZONE
TZID:Europe/Madrid
X-LIC-LOCATION:Europe/Madrid
BEGIN:DAYLIGHT
DTSTART:20190331T030000
TZOFFSETFROM:+0100
TZOFFSETTO:+0200
TZNAME:CEST
END:DAYLIGHT
END:VTIMEZONE
END:VCALENDAR